BEGIN:VCALENDAR
VERSION:2.0
PRODID:www.dahme-seenland.de
BEGIN:VEVENT
UID:69eb4b4f6e6b9
DTSTART:20260508T143000Z
SEQUENCE:0
TRANSP:OPAQUE
DTEND:20260508T163000Z
URL:http://www.dahme-seenland.de/veranstaltung/uckermark/buchlesung-die-hue
 terin-des-stolper-turmhuegels
LOCATION:Gewölbekeller der WOBAG\, Flinkenberg 26-30\, 16303 Schwedt/Oder
X-APPLE-STRUCTURED-LOCATION;VALUE=URI;X-ADDRESS="Gewölbekeller der WOBAG, 
 Flinkenberg 26-30, 16303 Schwedt/Oder";X-APPLE-RADIUS=49;X-TITLE=Gewölbek
 eller der WOBAG:geo:14.285704,53.056475
GEO:14.285704;53.056475
SUMMARY:Buchlesung: Die Hüterin des Stolper Turmhügels
CLASS:PUBLIC
DESCRIPTION:Der Familienserviceverein e.V. lädt zu einer spannenden Lesung
  in den Gewölbekeller der WOBAG Schwedt ein. Roland Schulz liest aus sein
 em historischen Roman „Die Hüterin des Stolper Turmhügels“. Zehn Zei
 treisen bringen den alten Burgführer zu Burgundern\, Slawen\, Wikingern u
 nd Hohenzollern. Unglaublich\, was er dabei in der Region um den Stolper T
 urm\, den Grützpott\, erlebt. Eine geheimnisvolle Frau\, die Hüterin des
  Turmhügels\, rettet ihn mehrfach aus Todesgefahr. Das spannendste neben 
 den Abenteuern ist sicherlich\, dass sich sämtliche Zeitreisen auf archä
 ologische Funde rund um den Turm beziehen. So tauchen in den Geschichten r
 eich ausgestattete slawische Fürstengräber auf\, vergrabene Silberschät
 ze\, mächtige Slawenburgen und sogar ein sagenumwobenes ULFBERHT-Schwert 
 – Heimatgeschichte im besten Sinn. Anmeldungen bitte bis zum 27. April 2
 026 unter kontakt@fame-schwedt.de oder Telefon 03332 835806.\n\nKontakt:\n
 \nFamilienserviceverein Schwedt e.V.\nFlinkenberg 26-30\n16303 Schwedt/Ode
 r\nTelefon: +49 3332 835806\nEmail: kontakt@fame-schwedt.de\nWebseite: htt
 ps://www.fame-schwedt.de/\n\nWeitere Informationen zur Veranstaltung: http
 ://www.dahme-seenland.de/veranstaltung/uckermark/buchlesung-die-hueterin-d
 es-stolper-turmhuegels
CATEGORIES:Lesung / Vortrag
DTSTAMP:20260424T105159Z
END:VEVENT
END:VCALENDAR