BEGIN:VCALENDAR
VERSION:2.0
PRODID:www.dahme-seenland.de
BEGIN:VEVENT
UID:69e90dcb1ddd0
DTSTART:20260430T180000Z
SEQUENCE:0
TRANSP:OPAQUE
DTEND:20260430T220000Z
URL:http://www.dahme-seenland.de/veranstaltung/potsdam/sebastian-block-und-
 band-strich-kudos
LOCATION:fabrik Café & Garten\, Schiffbauergasse 10\, 14467 Potsdam
X-APPLE-STRUCTURED-LOCATION;VALUE=URI;X-ADDRESS="fabrik Café & Garten, Sch
 iffbauergasse 10, 14467 Potsdam";X-APPLE-RADIUS=49;X-TITLE=fabrik Café & 
 Garten:geo:13.074790,52.402764
GEO:13.074790;52.402764
SUMMARY:Sebastian Block & Band / Kudos
CLASS:PUBLIC
DESCRIPTION:Am 30. April eröffnet der fabrikgarten musikalisch! Mit Band u
 nd DJ eröffnet der Biergarten der fabrik Potsdam wieder an einem der sch
 önsten Plätzen des Kulturquartiers Schiffbauergasse direkt am Ufer der H
 avel.\n\nSeit vielen Jahren spielt sich **Sebastian Block** in die Herzen 
 seines Publikums. Mit einem liebevollen Blick auf Details und Kleinigkeite
 n. Wie ein Lautsprecher für die Unerhörten. Jenseits kaltem Kalküls u
 nd kapitalistischem Wettbewerbs singt seine Musik einem direkt und ehrlich
  in die Seele. Mitreißende Akkorde\, klare Sprache und ein neu entdecktes
  Bandgefühl. Hier wird das Leben gefeiert\, laut und aus tiefstem Herzen
 . Mittlerweile veröffentlichte der ehem. Sänger und Bassist der Band Mei
 n Mio bereits fünf Soloalben\, zwei EPs und mehrere Singles\, u.a. auf d
 em Oetinger Kindermusik-Sampler _Unter meinem Bett._ Sein Album _Dorngrund
 _ war nominiert für den Förderpreis der Liederbestenliste und den Preis
  der deutschen Schallplattenkritik. 2026 erscheint die erste EP\, zusammen
  mit seiner neuen Band.\n\nVor und nach dem Konzert: **DJ KudoS**\n\nKonta
 kt:\n\nfabrik Potsdam\nSchiffbauergasse 10\n14467 Potsdam\nTelefon: +49 33
 1 2800314\nEmail: contact@fabrikpotsdam.de\n\nWeitere Informationen zur Ve
 ranstaltung: http://www.dahme-seenland.de/veranstaltung/potsdam/sebastian-
 block-und-band-strich-kudos
CATEGORIES:Chor / Folklore / Volksmusik
DTSTAMP:20260422T180459Z
END:VEVENT
END:VCALENDAR