BEGIN:VCALENDAR
VERSION:2.0
PRODID:www.dahme-seenland.de
BEGIN:VEVENT
UID:69e90ab383047
DTSTART:20260526T173000Z
SEQUENCE:0
TRANSP:OPAQUE
DTEND:20260526T190000Z
URL:http://www.dahme-seenland.de/veranstaltung/potsdam/potsdamer-tanztage-2
 026-le-margherite-strich-festivaleroeffnung
LOCATION:fabrik Potsdam\, Schiffbauergasse 10\, 14467 Potsdam
X-APPLE-STRUCTURED-LOCATION;VALUE=URI;X-ADDRESS="fabrik Potsdam, Schiffbaue
 rgasse 10, 14467 Potsdam";X-APPLE-RADIUS=49;X-TITLE=fabrik Potsdam:geo:13.
 074945,52.402578
GEO:13.074945;52.402578
SUMMARY:Potsdamer Tanztage 2026 – Le Margherite / Festivaleröffnung
CLASS:PUBLIC
DESCRIPTION:„Du liebst mich\, du liebst mich nicht …“ Wer das Orakel 
 eines Gänseblümchens aufsucht\, überlässt sein Schicksal einem unschul
 digen Zufall. _Le Margherite_ knüpft genau an diesen verspielten Zufall a
 n und zeigt zwischen Verkleidungen und Verwandlungen eine einfühlsame Ode
  an das Vergängliche. \n\nDabei steht die Erfahrung des Zufalls als Quell
 e von Freude und Spaß an erster Stelle. Fünf Tänzer*innen begleitet von
  einem Musiker entfalten auf sprachlicher\, musikalischer und körperliche
 r Ebene ein Feuerwerk bewegter Ideen und choreografischer Spiele\, aus den
 en sie immer wieder verschwinden\, um in überraschenden Formen erneut auf
 zutauchen. Zufall wird zu Intensität und vor den Augen des Publikums entw
 ickelt sich eine Poesie des schöpferischen Augenblicks – ein Versuch\, 
 die Endlichkeit zu überlisten.\n\nAnschließend am Mi 27. Mai: **Publikum
 sgespräch**\n\nKontakt:\n\nfabrik Potsdam\nSchiffbauergasse 10\n14467 Pot
 sdam\nTelefon: +49 331 2800314\nEmail: contact@fabrikpotsdam.de\n\nWeitere
  Informationen zur Veranstaltung: http://www.dahme-seenland.de/veranstaltu
 ng/potsdam/potsdamer-tanztage-2026-le-margherite-strich-festivaleroeffnung
CATEGORIES:Theater / Tanz / Kabarett
DTSTAMP:20260422T175148Z
END:VEVENT
BEGIN:VEVENT
UID:69e90ab4020f3
DTSTART:20260527T173000Z
SEQUENCE:0
TRANSP:OPAQUE
DTEND:20260527T183000Z
URL:http://www.dahme-seenland.de/veranstaltung/potsdam/potsdamer-tanztage-2
 026-le-margherite-strich-festivaleroeffnung
LOCATION:fabrik Potsdam\, Schiffbauergasse 10\, 14467 Potsdam
X-APPLE-STRUCTURED-LOCATION;VALUE=URI;X-ADDRESS="fabrik Potsdam, Schiffbaue
 rgasse 10, 14467 Potsdam";X-APPLE-RADIUS=49;X-TITLE=fabrik Potsdam:geo:13.
 074945,52.402578
GEO:13.074945;52.402578
SUMMARY:Potsdamer Tanztage 2026 – Le Margherite / Festivaleröffnung
CLASS:PUBLIC
DESCRIPTION:„Du liebst mich\, du liebst mich nicht …“ Wer das Orakel 
 eines Gänseblümchens aufsucht\, überlässt sein Schicksal einem unschul
 digen Zufall. _Le Margherite_ knüpft genau an diesen verspielten Zufall a
 n und zeigt zwischen Verkleidungen und Verwandlungen eine einfühlsame Ode
  an das Vergängliche. \n\nDabei steht die Erfahrung des Zufalls als Quell
 e von Freude und Spaß an erster Stelle. Fünf Tänzer*innen begleitet von
  einem Musiker entfalten auf sprachlicher\, musikalischer und körperliche
 r Ebene ein Feuerwerk bewegter Ideen und choreografischer Spiele\, aus den
 en sie immer wieder verschwinden\, um in überraschenden Formen erneut auf
 zutauchen. Zufall wird zu Intensität und vor den Augen des Publikums entw
 ickelt sich eine Poesie des schöpferischen Augenblicks – ein Versuch\, 
 die Endlichkeit zu überlisten.\n\nAnschließend am Mi 27. Mai: **Publikum
 sgespräch**\n\nKontakt:\n\nfabrik Potsdam\nSchiffbauergasse 10\n14467 Pot
 sdam\nTelefon: +49 331 2800314\nEmail: contact@fabrikpotsdam.de\n\nWeitere
  Informationen zur Veranstaltung: http://www.dahme-seenland.de/veranstaltu
 ng/potsdam/potsdamer-tanztage-2026-le-margherite-strich-festivaleroeffnung
CATEGORIES:Theater / Tanz / Kabarett
DTSTAMP:20260422T175148Z
END:VEVENT
END:VCALENDAR