BEGIN:VCALENDAR
VERSION:2.0
PRODID:www.dahme-seenland.de
BEGIN:VEVENT
UID:69e8f95baef79
DTSTART:20260528T193000Z
SEQUENCE:0
TRANSP:OPAQUE
DTEND:20260528T210000Z
URL:http://www.dahme-seenland.de/veranstaltung/potsdam/potsdamer-tanztage-2
 026-lena-stoehrfaktor-berlin
LOCATION:fabrik Café & Garten\, Schiffbauergasse 10\, 14467 Potsdam
X-APPLE-STRUCTURED-LOCATION;VALUE=URI;X-ADDRESS="fabrik Café & Garten, Sch
 iffbauergasse 10, 14467 Potsdam";X-APPLE-RADIUS=49;X-TITLE=fabrik Café & 
 Garten:geo:13.074790,52.402764
GEO:13.074790;52.402764
SUMMARY:Potsdamer Tanztage 2026 – Lena Stoehrfaktor (Berlin)
CLASS:PUBLIC
DESCRIPTION:Authentizität\, Hartnäckigkeit und Haltung zeigen sind für L
 ena Stoehrfaktor mehr als nur Floskeln – sie sind das Credo einer unerm
 üdlichen Künstlerin\, die sich seit Beginn der 2000er Jahre für den Ber
 liner Untergrund stark macht. Die Musikerin mit Liebe zum Oldschool-Rap we
 iß genau\, worauf es ankommt: Auf der einen Seite betrachtet sie fein ana
 lytisch gesellschaftliche Missstände\, statt sie unter den Teppich zu keh
 ren\, auf der anderen Seite wiederum verteilt sie frei Schnauze eine Punch
 line nach der anderen. Lena Stoehrfaktor geht nicht nur durch die Berliner
  Straßen – sie kratzt förmlich an ihrer Oberfläche\, um den Dreck sic
 htbar zu machen.\n\nKontakt:\n\nfabrik Potsdam\nSchiffbauergasse 10\n14467
  Potsdam\nTelefon: +49 331 2800314\nEmail: contact@fabrikpotsdam.de\n\nWei
 tere Informationen zur Veranstaltung: http://www.dahme-seenland.de/veranst
 altung/potsdam/potsdamer-tanztage-2026-lena-stoehrfaktor-berlin
CATEGORIES:Chor / Folklore / Volksmusik
DTSTAMP:20260422T163748Z
END:VEVENT
END:VCALENDAR