BEGIN:VCALENDAR
VERSION:2.0
PRODID:www.dahme-seenland.de
BEGIN:VEVENT
UID:69eb376d05ea6
DTSTART:20260530T193000Z
SEQUENCE:0
TRANSP:OPAQUE
DTEND:20260530T203000Z
URL:http://www.dahme-seenland.de/veranstaltung/potsdam/potsdamer-tanztage-2
 026-kurkapelle-sonnendeck-dresden
LOCATION:fabrik Café & Garten\, Schiffbauergasse 10\, 14467 Potsdam
X-APPLE-STRUCTURED-LOCATION;VALUE=URI;X-ADDRESS="fabrik Café & Garten, Sch
 iffbauergasse 10, 14467 Potsdam";X-APPLE-RADIUS=49;X-TITLE=fabrik Café & 
 Garten:geo:13.074790,52.402764
GEO:13.074790;52.402764
SUMMARY:Potsdamer Tanztage 2026 – Kurkapelle Sonnendeck (Dresden)
CLASS:PUBLIC
DESCRIPTION:Zwischen pumpenden Beats und handgemachtem Klangrausch entsteht
  ein Sound\, der sowohl zum Träumen einlädt als auch den Körper in Bewe
 gung zwingt. Hier verschmelzen elektronische Elemente mit echten Instrumen
 ten: Synthesizer\, Drums\, Bass\, Saxophon und Trompete formen gemeinsam e
 ine organische Welle aus Rhythmus\, Wärme und Melancholie. Ein Aufguss au
 s Deephouse\, Techno und Minimal – handgemacht\, schweißtreibend. Also:
  Pantoffeln an\, Alltag aus\, Augen zu. Die Kurkapelle Sonnendeck bittet z
 um Tanz.\n\nKontakt:\n\nfabrik Potsdam\nSchiffbauergasse 10\n14467 Potsdam
 \nTelefon: +49 331 2800314\nEmail: contact@fabrikpotsdam.de\n\nWeitere Inf
 ormationen zur Veranstaltung: http://www.dahme-seenland.de/veranstaltung/p
 otsdam/potsdamer-tanztage-2026-kurkapelle-sonnendeck-dresden
CATEGORIES:Rock / Pop / Jazz
DTSTAMP:20260424T092709Z
END:VEVENT
END:VCALENDAR