BEGIN:VCALENDAR
VERSION:2.0
PRODID:www.dahme-seenland.de
BEGIN:VEVENT
UID:69e90dcb7ffb0
DTSTART:20260604T193000Z
SEQUENCE:0
TRANSP:OPAQUE
DTEND:20260604T203000Z
URL:http://www.dahme-seenland.de/veranstaltung/potsdam/potsdamer-tanztage-2
 026-madanii-berlin
LOCATION:fabrik Café & Garten\, Schiffbauergasse 10\, 14467 Potsdam
X-APPLE-STRUCTURED-LOCATION;VALUE=URI;X-ADDRESS="fabrik Café & Garten, Sch
 iffbauergasse 10, 14467 Potsdam";X-APPLE-RADIUS=49;X-TITLE=fabrik Café & 
 Garten:geo:13.074790,52.402764
GEO:13.074790;52.402764
SUMMARY:Potsdamer Tanztage 2026 – MADANII (Berlin)
CLASS:PUBLIC
DESCRIPTION:MADANII ist eine Genre-Rebellin\, die Grenzen verwischt. Tief i
 n der persischen Kultur verwurzelt und geprägt von ihrer Kindheit als Toc
 hter politischer Geflüchteter in Deutschland\, verwebt sie Rhythmen\, Sp
 rachen\, Politik\, Formen und Klänge zu einem neuartigen musikalischen un
 d visuellem Mosaik. In ihrer Musik erzählt MADANII ihre Geschichte des An
 dersseins\, des Nicht-Dazugehörens und der Zerrissenheit zwischen Kulture
 n. Generationenübergreifende Träume\, politische Absurditäten und quee
 re Liebe – all das spiegelt sich in ihrem einzigartigen Stil wider\, der
  Einflüsse aus Avant-Pop\, Alternative R&B und Trap vereint.\n\nKontakt:
 \n\nfabrik Potsdam\nSchiffbauergasse 10\n14467 Potsdam\nTelefon: +49 331 2
 800314\nEmail: contact@fabrikpotsdam.de\n\nWeitere Informationen zur Veran
 staltung: http://www.dahme-seenland.de/veranstaltung/potsdam/potsdamer-tan
 ztage-2026-madanii-berlin
CATEGORIES:Rock / Pop / Jazz
DTSTAMP:20260422T180459Z
END:VEVENT
END:VCALENDAR