BEGIN:VCALENDAR
VERSION:2.0
PRODID:www.dahme-seenland.de
BEGIN:VEVENT
UID:69e90cd85f133
DTSTART:20260605T200000Z
SEQUENCE:0
TRANSP:OPAQUE
DTEND:20260605T210000Z
URL:http://www.dahme-seenland.de/veranstaltung/potsdam/potsdamer-tanztage-2
 026-lohgre-dresden
LOCATION:fabrik Café & Garten\, Schiffbauergasse 10\, 14467 Potsdam
X-APPLE-STRUCTURED-LOCATION;VALUE=URI;X-ADDRESS="fabrik Café & Garten, Sch
 iffbauergasse 10, 14467 Potsdam";X-APPLE-RADIUS=49;X-TITLE=fabrik Café & 
 Garten:geo:13.074790,52.402764
GEO:13.074790;52.402764
SUMMARY:Potsdamer Tanztage 2026 – Lohgre (Dresden)
CLASS:PUBLIC
DESCRIPTION:Bittersüßer Bubblegrunge-Punk\, ähnlich wie bei einem Aperol
  Spritz\, bei dem es die Tresenkraft ein wenig zu gut mit euch gemeint hat
 . Noch ein Schuss Postpunk und fertig ist der angenehme Mini-Schwips zur M
 ittagszeit. Newcomer\, die längst zu Stammgästen in den Dresdner Szene-L
 okalitäten geworden sind!\n\nKontakt:\n\nfabrik Potsdam\nSchiffbauergasse
  10\n14467 Potsdam\nTelefon: +49 331 2800314\nEmail: contact@fabrikpotsdam
 .de\n\nWeitere Informationen zur Veranstaltung: http://www.dahme-seenland.
 de/veranstaltung/potsdam/potsdamer-tanztage-2026-lohgre-dresden
CATEGORIES:Chor / Folklore / Volksmusik
DTSTAMP:20260422T180056Z
END:VEVENT
END:VCALENDAR