BEGIN:VCALENDAR
VERSION:2.0
PRODID:www.dahme-seenland.de
BEGIN:VEVENT
UID:69e90a2eb99e0
DTSTART:20260606T193000Z
SEQUENCE:0
TRANSP:OPAQUE
DTEND:20260606T203000Z
URL:http://www.dahme-seenland.de/veranstaltung/potsdam/potsdamer-tanztage-2
 026-tell-a-vision-berlin
LOCATION:fabrik Café & Garten\, Schiffbauergasse 10\, 14467 Potsdam
X-APPLE-STRUCTURED-LOCATION;VALUE=URI;X-ADDRESS="fabrik Café & Garten, Sch
 iffbauergasse 10, 14467 Potsdam";X-APPLE-RADIUS=49;X-TITLE=fabrik Café & 
 Garten:geo:13.074790,52.402764
GEO:13.074790;52.402764
SUMMARY:Potsdamer Tanztage 2026 – TEll A ViSiON (Berlin)
CLASS:PUBLIC
DESCRIPTION:TEll A ViSiON ist eine in Berlin ansässige Songwriterin\, Prod
 uzentin und Komponistin\, deren genreübergreifender Post-Pop sich zu eine
 r unverwechselbaren und kraftvollen Signatur entwickelt hat. Von Kritiker*
 innen der deutschen Popkultur als „einer unserer aufregendsten klanglich
 en Innovatorinnen“ gefeiert\, vereint sie bluesige Gitarren\, raue\, man
 chmal dubige Beats\, kreisende Synthesizer\, Sample-Ästhetik und rohe\, d
 irekte Texte zu Songs\, die visuell und kompromisslos sind.\n\nKontakt:\n\
 nfabrik Potsdam\nSchiffbauergasse 10\n14467 Potsdam\nTelefon: +49 331 2800
 314\nEmail: contact@fabrikpotsdam.de\n\nWeitere Informationen zur Veransta
 ltung: http://www.dahme-seenland.de/veranstaltung/potsdam/potsdamer-tanzta
 ge-2026-tell-a-vision-berlin
CATEGORIES:Rock / Pop / Jazz
DTSTAMP:20260422T174935Z
END:VEVENT
END:VCALENDAR