BEGIN:VCALENDAR
VERSION:2.0
PRODID:www.dahme-seenland.de
BEGIN:VEVENT
UID:69ea799050aad
DTSTART:20260502T120000Z
SEQUENCE:0
TRANSP:OPAQUE
DTEND:20260502T160000Z
URL:http://www.dahme-seenland.de/veranstaltung/havelland/offene-ateliers-20
 26-atelier-anne-lehmann
LOCATION:Atelier Anne Lehmann\, Templiner Straße  8\,  
X-APPLE-STRUCTURED-LOCATION;VALUE=URI;X-ADDRESS="Atelier Anne Lehmann, Temp
 liner Straße  8,  ";X-APPLE-RADIUS=49;X-TITLE=Atelier Anne Lehmann:geo:13
 .408433,52.532623
GEO:13.408433;52.532623
SUMMARY:Offene Ateliers 2026 -  Atelier Anne Lehmann
CLASS:PUBLIC
DESCRIPTION:Keramik\n\nKontakt:\n\nLandkreis Havelland\nPlatz der Freiheit 
 1\n14712 Rathenow\nTelefon: \nEmail: \n\nWeitere Informationen zur Veranst
 altung: http://www.dahme-seenland.de/veranstaltung/havelland/offene-atelie
 rs-2026-atelier-anne-lehmann
CATEGORIES:Ausstellung
DTSTAMP:20260423T195704Z
END:VEVENT
BEGIN:VEVENT
UID:69ea79905cc6b
DTSTART:20260503T090000Z
SEQUENCE:0
TRANSP:OPAQUE
DTEND:20260503T160000Z
URL:http://www.dahme-seenland.de/veranstaltung/havelland/offene-ateliers-20
 26-atelier-anne-lehmann
LOCATION:Atelier Anne Lehmann\, Templiner Straße  8\,  
X-APPLE-STRUCTURED-LOCATION;VALUE=URI;X-ADDRESS="Atelier Anne Lehmann, Temp
 liner Straße  8,  ";X-APPLE-RADIUS=49;X-TITLE=Atelier Anne Lehmann:geo:13
 .408433,52.532623
GEO:13.408433;52.532623
SUMMARY:Offene Ateliers 2026 -  Atelier Anne Lehmann
CLASS:PUBLIC
DESCRIPTION:Keramik\n\nKontakt:\n\nLandkreis Havelland\nPlatz der Freiheit 
 1\n14712 Rathenow\nTelefon: \nEmail: \n\nWeitere Informationen zur Veranst
 altung: http://www.dahme-seenland.de/veranstaltung/havelland/offene-atelie
 rs-2026-atelier-anne-lehmann
CATEGORIES:Ausstellung
DTSTAMP:20260423T195704Z
END:VEVENT
END:VCALENDAR