BEGIN:VCALENDAR
VERSION:2.0
PRODID:www.dahme-seenland.de
BEGIN:VEVENT
UID:69ea86eabbcfe
DTSTART:20260510T080000Z
SEQUENCE:0
TRANSP:OPAQUE
DTEND:20260510T100000Z
URL:http://www.dahme-seenland.de/veranstaltung/dahme-seenland/rundgang-durc
 h-zeuthen
LOCATION:Rathaus Zeuthen\, Schillerstraße 1\, 15738 Zeuthen
X-APPLE-STRUCTURED-LOCATION;VALUE=URI;X-ADDRESS="Rathaus Zeuthen, Schillers
 traße 1, 15738 Zeuthen";X-APPLE-RADIUS=49;X-TITLE=Rathaus Zeuthen:geo:13.
 631239,52.352188
GEO:13.631239;52.352188
SUMMARY:Rundgang durch Zeuthen
CLASS:PUBLIC
DESCRIPTION:Die Heimatfreunde Zeuthen e. V. laden zu Erkundungen im Zentrum
  von Zeuthen ein.\n\nKontakt:\n\nHeimatfreunde Zeuthen e.V.\nGoethestraße
  26B\n15738 Zeuthen\nTelefon: +49 33762 889341\nEmail: info@heimatfreunde-
 zeuthen.de\n\nWeitere Informationen zur Veranstaltung: http://www.dahme-se
 enland.de/veranstaltung/dahme-seenland/rundgang-durch-zeuthen
CATEGORIES:Führung / Besichtigung
DTSTAMP:20260423T205402Z
END:VEVENT
END:VCALENDAR