BEGIN:VCALENDAR
VERSION:2.0
PRODID:www.dahme-seenland.de
BEGIN:VEVENT
UID:69eb600e0efa4
DTSTART:20260502T120000Z
SEQUENCE:0
TRANSP:OPAQUE
DTEND:20260502T160000Z
URL:http://www.dahme-seenland.de/veranstaltung/uckermark/offene-ateliers-bi
 ldhauer-j-steinert-i-villa-sassolino
LOCATION:Bildhauer J. Steinert I Villa Sassolino\, Brennereiweg  7\, 16303 
 Schwedt/Oder
X-APPLE-STRUCTURED-LOCATION;VALUE=URI;X-ADDRESS="Bildhauer J. Steinert I Vi
 lla Sassolino, Brennereiweg  7, 16303 Schwedt/Oder";X-APPLE-RADIUS=49;X-TI
 TLE=Bildhauer J. Steinert I Villa Sassolino:geo:14.286911,53.055435
GEO:14.286911;53.055435
SUMMARY:Offene Ateliers: Bildhauer J. Steinert I Villa Sassolino
CLASS:PUBLIC
DESCRIPTION:**GROSSSKULPTUREN IN STEIN\, KLEINPLASTIKEN IN BRONZE\, BILDER 
 AUS BITUMEN/BLEI**\n\n**„Villa Sassolino“ ist ein Ort für Kunst\, 80 
 Kilometer nördlich von Berlin in der Gemeinde Schönermark\, die zu Schwe
 dt gehört.**  \n**Auf einer Fläche von einem Hektar Größe sind große 
 Steinskulpturen zu sehen. Die größte Skulptur ist 5 Meter hoch und aus S
 izilianischem Basalt am Ätna hergestellt worden. Andere große Skulpturen
  sind aus Granit oder Porphyr und wurden**  \n**aus Findlingen der Region 
 geschaffen.Dazu kommen noch 4 Ausstellungshallen mit Bronze\, Blei und Hol
 zskulpturen\, sowie**  \n**große Bilder (6 m²) zum Thema Ilias und der O
 dyssee. Zusätzlich finden Führungen durch die Ausstellungshallen statt. 
 Der Bildhauer ist natürlich vor Ort.**\n\nMit Künstlern ins Gespräch ko
 mmen\, ihnen bei der Arbeit über die Schulter zu schauen oder sogar selbs
 t kreativ werden. Künstlerisches\, Musik\, Literatur\, Gartenkunst\, aber
  auch Kulinarisches erwartet Sie. In den beteiligten Galerien können Sie 
 die Werke der Künstlerinnen und Künstler bewundern und das eine oder and
 ere Original direkt erwerben.\n\nDie Tage des offenen Ateliers sind ein re
 gionales Kooperationsprojekt\, das im Arbeitskreis der Kulturverwaltungen 
 im Land Brandenburg (AKK) entwickelt wurde.\n\n**Öffnungszeiten**\n\nSa 0
 2.05.2026: 14-18 Uhr und  \nSo 03.05.2026: 11-18 Uhr\n\nKontakt:\n\nAmt f
 ür Kreisentwicklung\nKarl-Marx-Straße  1\n17291 Prenzlau\nTelefon: +49 3
 984 701480\nEmail: Klara-Marie.Zwerschke@uckermark.de\nWebseite: https://w
 ww.uckermark.de/Kunst-Kultur\n\nWeitere Informationen zur Veranstaltung: h
 ttp://www.dahme-seenland.de/veranstaltung/uckermark/offene-ateliers-bildha
 uer-j-steinert-i-villa-sassolino
CATEGORIES:Führung / Besichtigung
DTSTAMP:20260424T122030Z
END:VEVENT
BEGIN:VEVENT
UID:69eb600e174ba
DTSTART:20260503T090000Z
SEQUENCE:0
TRANSP:OPAQUE
DTEND:20260503T160000Z
URL:http://www.dahme-seenland.de/veranstaltung/uckermark/offene-ateliers-bi
 ldhauer-j-steinert-i-villa-sassolino
LOCATION:Bildhauer J. Steinert I Villa Sassolino\, Brennereiweg  7\, 16303 
 Schwedt/Oder
X-APPLE-STRUCTURED-LOCATION;VALUE=URI;X-ADDRESS="Bildhauer J. Steinert I Vi
 lla Sassolino, Brennereiweg  7, 16303 Schwedt/Oder";X-APPLE-RADIUS=49;X-TI
 TLE=Bildhauer J. Steinert I Villa Sassolino:geo:14.286911,53.055435
GEO:14.286911;53.055435
SUMMARY:Offene Ateliers: Bildhauer J. Steinert I Villa Sassolino
CLASS:PUBLIC
DESCRIPTION:**GROSSSKULPTUREN IN STEIN\, KLEINPLASTIKEN IN BRONZE\, BILDER 
 AUS BITUMEN/BLEI**\n\n**„Villa Sassolino“ ist ein Ort für Kunst\, 80 
 Kilometer nördlich von Berlin in der Gemeinde Schönermark\, die zu Schwe
 dt gehört.**  \n**Auf einer Fläche von einem Hektar Größe sind große 
 Steinskulpturen zu sehen. Die größte Skulptur ist 5 Meter hoch und aus S
 izilianischem Basalt am Ätna hergestellt worden. Andere große Skulpturen
  sind aus Granit oder Porphyr und wurden**  \n**aus Findlingen der Region 
 geschaffen.Dazu kommen noch 4 Ausstellungshallen mit Bronze\, Blei und Hol
 zskulpturen\, sowie**  \n**große Bilder (6 m²) zum Thema Ilias und der O
 dyssee. Zusätzlich finden Führungen durch die Ausstellungshallen statt. 
 Der Bildhauer ist natürlich vor Ort.**\n\nMit Künstlern ins Gespräch ko
 mmen\, ihnen bei der Arbeit über die Schulter zu schauen oder sogar selbs
 t kreativ werden. Künstlerisches\, Musik\, Literatur\, Gartenkunst\, aber
  auch Kulinarisches erwartet Sie. In den beteiligten Galerien können Sie 
 die Werke der Künstlerinnen und Künstler bewundern und das eine oder and
 ere Original direkt erwerben.\n\nDie Tage des offenen Ateliers sind ein re
 gionales Kooperationsprojekt\, das im Arbeitskreis der Kulturverwaltungen 
 im Land Brandenburg (AKK) entwickelt wurde.\n\n**Öffnungszeiten**\n\nSa 0
 2.05.2026: 14-18 Uhr und  \nSo 03.05.2026: 11-18 Uhr\n\nKontakt:\n\nAmt f
 ür Kreisentwicklung\nKarl-Marx-Straße  1\n17291 Prenzlau\nTelefon: +49 3
 984 701480\nEmail: Klara-Marie.Zwerschke@uckermark.de\nWebseite: https://w
 ww.uckermark.de/Kunst-Kultur\n\nWeitere Informationen zur Veranstaltung: h
 ttp://www.dahme-seenland.de/veranstaltung/uckermark/offene-ateliers-bildha
 uer-j-steinert-i-villa-sassolino
CATEGORIES:Führung / Besichtigung
DTSTAMP:20260424T122030Z
END:VEVENT
END:VCALENDAR