BEGIN:VCALENDAR
VERSION:2.0
PRODID:www.dahme-seenland.de
BEGIN:VEVENT
UID:69e917cd93c96
DTSTART:20260517T090000Z
SEQUENCE:0
TRANSP:OPAQUE
DTEND:20260517T150000Z
URL:http://www.dahme-seenland.de/veranstaltung/lausitzer-seenland/das-forst
 er-laedt-zum-internationaler-museumstag
LOCATION:Forster Museum für Textil- und Industriegeschichte Lausitz\, Sora
 uer Straße  37\, 03149 Forst (Lausitz)
X-APPLE-STRUCTURED-LOCATION;VALUE=URI;X-ADDRESS="Forster Museum für Textil
 - und Industriegeschichte Lausitz, Sorauer Straße  37, 03149 Forst (Lausi
 tz)";X-APPLE-RADIUS=49;X-TITLE=Forster Museum für Textil- und Industriege
 schichte Lausitz:geo:14.645407,51.739053
GEO:14.645407;51.739053
SUMMARY:Das Forster lädt zum Internationaler Museumstag
CLASS:PUBLIC
DESCRIPTION:Anlässlich des Internationaler Museumstag lädt das Forster Mu
 seum für Textil- und Industriegeschichte Lausitz zu einem vielfältigen P
 rogramm auf dem Museumshof sowie im Veranstaltungssaal ein.\n\nGemeinsam m
 it dem Museumsverein der Stadt Forst (Lausitz) e.V. werden zahlreiche Mitm
 achangebote für Groß und Klein gestaltet\, die zum Ausprobieren\, Entdec
 ken und kreativen Gestalten einladen. Ganz dem Motto des Forsters „Von d
 er Wolle bis zum Tuch“ werden großflächige Elemente kreativ gestaltete
 t\,  die  im Rahmen der Schnittrosenschau zu den Rosengartenfesttagen eing
 ebaut werden. Hier sind kreative Helfer ausdrücklich erwünscht. Für das
  leibliche Wohl sorgt Tuchfabrik 2.0 mit Speisen und Getränken. \n\nDas F
 orster Museum lädt herzlich ein und freut sich auf einen inspirierenden T
 ag voller Kreativität\, Begegnung und zahlreicher Besucherinnen und Besuc
 her.\n\nKontakt:\n\nForster Museum für Textil- und Industriegeschichte La
 usitz\nSorauer Straße 37\n03149 Forst (Lausitz)\nTelefon: \nEmail: \n\nWe
 itere Informationen zur Veranstaltung: http://www.dahme-seenland.de/verans
 taltung/lausitzer-seenland/das-forster-laedt-zum-internationaler-museumsta
 g
CATEGORIES:Essen und Trinken,Führung / Besichtigung
DTSTAMP:20260422T184741Z
END:VEVENT
END:VCALENDAR