BEGIN:VCALENDAR
VERSION:2.0
PRODID:www.dahme-seenland.de
BEGIN:VEVENT
UID:69ea8f5de5e7e
DTSTART:20260822T120000Z
SEQUENCE:0
TRANSP:OPAQUE
DTEND:20260822T154500Z
URL:http://www.dahme-seenland.de/veranstaltung/berlin/heidebluete-und-insek
 tenwelt-in-der-schoenower-heide
LOCATION:Portal Schönower Heide\, Schönwalder Chaussee\, 16321 Bernau bei
  Berlin
X-APPLE-STRUCTURED-LOCATION;VALUE=URI;X-ADDRESS="Portal Schönower Heide, S
 chönwalder Chaussee, 16321 Bernau bei Berlin";X-APPLE-RADIUS=49;X-TITLE=P
 ortal Schönower Heide:geo:13.399632,52.518362
GEO:13.399632;52.518362
SUMMARY:Heideblüte und Insektenwelt in der Schönower Heide
CLASS:PUBLIC
DESCRIPTION:Es geht mitten in das Gehege von Rot-\, Dam- und Muffelwild. Er
 leben Sie auf einer ca. 6 km langen geführten Wegstrecke Interessantes un
 d Bemerkenswertes über einen der letzten Lebensräume dieser Art\, staune
 n Sie über die beindruckende Heideblüte. Auf den großen offenen Fläche
 n scheint man sich durch ein violettes Meer zu bewegen.   \nWeitere wunder
 schöne Beispiele der hiesigen Flora\, streng geschützter Flechten\, Grä
 ser und Moose werden bewundert. Zahlreiche extrem seltene Insekten\, Spinn
 en\, Vögel und Reptilien\, die sich genau diesem seltenen Lebensraum anpa
 ssten\, werden beobachtet.  \n \n\nPreis pro Person 7\,50€\n\nGeeignet f
 ür Kinder und Rentner\n\nAnmeldung unter: natur_mit_temmi@yahoo.com oder 
 015224757169\n\nKontakt:\n\nnatur_mit_temmi@yahoo.com\n\n \nTelefon: +49 1
 52 24757169\nEmail: \n\nWeitere Informationen zur Veranstaltung: http://ww
 w.dahme-seenland.de/veranstaltung/berlin/heidebluete-und-insektenwelt-in-d
 er-schoenower-heide
CATEGORIES:Exkursion / Wanderung
DTSTAMP:20260423T213005Z
END:VEVENT
END:VCALENDAR