BEGIN:VCALENDAR
VERSION:2.0
PRODID:www.dahme-seenland.de
BEGIN:VEVENT
UID:69ea9878d4689
DTSTART:20260509T120000Z
SEQUENCE:0
TRANSP:OPAQUE
DTEND:20260509T160000Z
URL:http://www.dahme-seenland.de/veranstaltung/flaeming/spielplatzfest-fern
 neuendorf-gemeinde-mellensee
LOCATION:Schrottplatz Fernneuendorf e.V.\, An der Dorfaue 5\, 15838 Am Mell
 ensee
X-APPLE-STRUCTURED-LOCATION;VALUE=URI;X-ADDRESS="Schrottplatz Fernneuendorf
  e.V., An der Dorfaue 5, 15838 Am Mellensee";X-APPLE-RADIUS=49;X-TITLE=Sch
 rottplatz Fernneuendorf e.V.:geo:13.417505,52.185556
GEO:13.417505;52.185556
SUMMARY:Spielplatzfest Fernneuendorf - Gemeinde Mellensee
CLASS:PUBLIC
DESCRIPTION:Der Verein Schrottplatz Fernneuendorf e.V. lädt wieder zum Spi
 elplatzfest ein. Spiel und Spaß für Groß und Klein. \n\nDer Verein info
 rmiert über sein Engagement für den neu eingeweihten Rundwanderweg Fernn
 euendorf - Kummersdorf-Gut der Gemeinde Am Mellensee.\n\nKontakt:\n\nSchro
 ttplatz-Fernneuendorf e.V.\nAn der Dorfaue 5\n15838 Am Mellensee\nTelefon:
  \nEmail: \n\nWeitere Informationen zur Veranstaltung: http://www.dahme-se
 enland.de/veranstaltung/flaeming/spielplatzfest-fernneuendorf-gemeinde-mel
 lensee
CATEGORIES:Fest / Brauchtum
DTSTAMP:20260423T220856Z
END:VEVENT
END:VCALENDAR