BEGIN:VCALENDAR
VERSION:2.0
PRODID:www.dahme-seenland.de
BEGIN:VEVENT
UID:69ecfdd538d7f
DTSTART:20260508T150000Z
SEQUENCE:0
TRANSP:OPAQUE
DTEND:20260508T163000Z
URL:http://www.dahme-seenland.de/veranstaltung/prignitz/natur-trifft-poesie
LOCATION:BUND-Besucherzentrum Burg Lenzen\, Burgstraße 3\, 19309 Lenzen
X-APPLE-STRUCTURED-LOCATION;VALUE=URI;X-ADDRESS="BUND-Besucherzentrum Burg 
 Lenzen, Burgstraße 3, 19309 Lenzen";X-APPLE-RADIUS=49;X-TITLE=BUND-Besuch
 erzentrum Burg Lenzen:geo:11.477044,53.090148
GEO:11.477044;53.090148
SUMMARY:Natur trifft Poesie
CLASS:PUBLIC
DESCRIPTION:Im malerischen Burgpark Lenzen wird Natur\, Kunst und Philosoph
 ie auf ganz besondere Weise verbunden. Der NaturPoesieGarten bietet Besuch
 ern die Möglichkeit\, die harmonische Symbiose von Kunst und Natur zu erl
 eben.  \nVom historischen Barockgarten aus führt ein malerischer Weg zu n
 eun inspirierenden Kunstobjekten. Diese Objekte laden dazu ein\, über das
  Verhältnis von Mensch und Natur nachzudenken. Umgeben von prächtigen hi
 storischen Rosen findet sich im Froschbrunnen auch die Skulptur „Das bad
 ende Mädchen“ – Fauna\, die das Herzstück dieses idyllischen Gartens
  bildet. Entlang des Weges stehen Notenständer\, die Besucher dazu einlad
 en\, in die barocke Lyrik einzutauchen und sich von der Schönheit der Nat
 ur inspirieren zu lassen. Um den Dialog über die kunstvoll inszenierten I
 nstallationen zu fördern\, laden wir interessierte Besucher zu einem geme
 insamen Spaziergang ein\, Start am Freitag\, d. 08. Mai um 17.00 Uhr am BU
 ND-Besucherzentrum Burg Lenzen.  \nSeien Sie Teil dieses kulturellen Erleb
 nisses und lassen Sie sich von der Verbindung von Natur\, Kunst und Philos
 ophie verzaubern.  \nFür weitere Informationen und zur Anmeldung wenden S
 ie sich bitte an das BUND-Besucherzentrum Burg Lenzen.\n\nKontakt:\n\nBUND
 -Besucherzentrum Burg Lenzen\nBurgstr. 3\n19309 Lenzen\nTelefon: +49 03879
 2 1221\nEmail: info@burg-lenzen.de\nWebseite: https://www.burg-lenzen.de\n
 \nWeitere Informationen zur Veranstaltung: http://www.dahme-seenland.de/ve
 ranstaltung/prignitz/natur-trifft-poesie
CATEGORIES:Führung / Besichtigung
DTSTAMP:20260425T174558Z
END:VEVENT
END:VCALENDAR