BEGIN:VCALENDAR
VERSION:2.0
PRODID:www.dahme-seenland.de
BEGIN:VEVENT
UID:69ecfdd60850c
DTSTART:20260509T120000Z
SEQUENCE:0
TRANSP:OPAQUE
DTEND:20260509T150000Z
URL:http://www.dahme-seenland.de/veranstaltung/prignitz/land-und-leute
LOCATION:BUND-Besucherzentrum Burg Lenzen\, Burgstraße 3\, 19309 Lenzen
X-APPLE-STRUCTURED-LOCATION;VALUE=URI;X-ADDRESS="BUND-Besucherzentrum Burg 
 Lenzen, Burgstraße 3, 19309 Lenzen";X-APPLE-RADIUS=49;X-TITLE=BUND-Besuch
 erzentrum Burg Lenzen:geo:11.477044,53.090148
GEO:11.477044;53.090148
SUMMARY:Land und Leute
CLASS:PUBLIC
DESCRIPTION:Begleiten Sie uns auf einer Radtour rund um Lenzen. Erleben Sie
  die Landschaft und Dörfer entlang des Flusses Löcknitz und hören Sie s
 pannende Geschichten zu Land und Leuten. Die Radrundtour führt zunächst 
 von Lenzen aus entlang der idyllischen Löcknitz. Biber\, Fischotter und E
 isvogel finden hier optimalen Lebensraum. Weiter führt die Tour über die
  Dörfer Bäkern\, Seedorf und Breetz. Unsere Gästeführerin Erika Otto w
 eiß so manche spannende Geschichte aus der Region zu erzählen. Ziel sind
  der Quitzowturm und die Ausstellung historischer Landwirtschaftsgeräte a
 uf dem ehemaligen Gutshof in Eldenburg. Nach der Besichtigung und vielen i
 nteressanten Informationen geht es zurück durch die ausgedehnten Wiesen i
 n Richtung Lenzen.\n\nKontakt:\n\nBUND-Besucherzentrum Burg Lenzen\nBurgst
 r. 3\n19309 Lenzen\nTelefon: +49 038792 1221\nEmail: info@burg-lenzen.de\n
 Webseite: https://www.burg-lenzen.de\n\nWeitere Informationen zur Veransta
 ltung: http://www.dahme-seenland.de/veranstaltung/prignitz/land-und-leute
CATEGORIES:Führung / Besichtigung
DTSTAMP:20260425T174558Z
END:VEVENT
END:VCALENDAR