BEGIN:VCALENDAR
VERSION:2.0
PRODID:www.dahme-seenland.de
BEGIN:VEVENT
UID:69ed11515e014
DTSTART:20260527T133000Z
SEQUENCE:0
TRANSP:OPAQUE
DTEND:20260527T150000Z
URL:http://www.dahme-seenland.de/veranstaltung/prignitz/an-smuestern
LOCATION:BUND-Besucherzentrum Burg Lenzen\, Burgstraße 3\, 19309 Lenzen
X-APPLE-STRUCTURED-LOCATION;VALUE=URI;X-ADDRESS="BUND-Besucherzentrum Burg 
 Lenzen, Burgstraße 3, 19309 Lenzen";X-APPLE-RADIUS=49;X-TITLE=BUND-Besuch
 erzentrum Burg Lenzen:geo:11.477044,53.090148
GEO:11.477044;53.090148
SUMMARY:An-Smüstern
CLASS:PUBLIC
DESCRIPTION:Das BUND-Besucherzentrum lädt am 27. Mai 202 um 15.30 Uhr zum 
 An-Smüstern auf die Elbe ein - Die Bootssaison beginnt! Genießen Sie ein
 e geführte Bootstour auf der Elbe und lassen Sie sich von der der einziga
 rtigen Flusslandschaft verzaubern. Während die Smüster Elw sanft und fas
 t geräuschlos über das Wasser gleitet\, erhalten Sie interessante Einbli
 cke in die Flusslandschaft. Die Elbe\, mit ihrer faszinierenden Vielfalt a
 n Lebensräumen und Arten\, ist ein wahres Naturparadies. In den Buhnenfel
 dern rasten Graugänse. Kormorane sitzen mit ausgebreiteten Flügeln auf d
 en alten\, knorrigen Eichen und wer weiß – vielleicht kreist sogar ein 
 majestätischer Seeadler über uns\, auf der Suche nach seiner nächsten M
 ahlzeit. Ob allein\, mit Freunden oder der Familie – unsere Bootstour is
 t die perfekte Auszeit. Begleiten Sie uns auf der rund 2-stündigen Flussf
 ahrt und genießen Sie den Sommer an der Elbe.\n\nKontakt:\n\nBUND-Besuche
 rzentrum Burg Lenzen\nBurgstr. 3\n19309 Lenzen\nTelefon: +49 038792 1221\n
 Email: info@burg-lenzen.de\nWebseite: https://www.burg-lenzen.de\n\nWeiter
 e Informationen zur Veranstaltung: http://www.dahme-seenland.de/veranstalt
 ung/prignitz/an-smuestern
CATEGORIES:Rund ums Wasser
DTSTAMP:20260425T190905Z
END:VEVENT
END:VCALENDAR