BEGIN:VCALENDAR
VERSION:2.0
PRODID:www.dahme-seenland.de
BEGIN:VEVENT
UID:69ed12062d534
DTSTART:20260605T130000Z
SEQUENCE:0
TRANSP:OPAQUE
DTEND:20260605T150000Z
URL:http://www.dahme-seenland.de/veranstaltung/prignitz/fluesse-und-ihre-au
 en-leben
LOCATION:BUND-Besucherzentrum Burg Lenzen\, Burgstraße 3\, 19309 Lenzen
X-APPLE-STRUCTURED-LOCATION;VALUE=URI;X-ADDRESS="BUND-Besucherzentrum Burg 
 Lenzen, Burgstraße 3, 19309 Lenzen";X-APPLE-RADIUS=49;X-TITLE=BUND-Besuch
 erzentrum Burg Lenzen:geo:11.477044,53.090148
GEO:11.477044;53.090148
SUMMARY:Flüsse und ihre Auen leben
CLASS:PUBLIC
DESCRIPTION:Deutschlands erste große Deichrückverlegung bei Lenzen gab de
 r Elbe 420 Hektar Überschwemmungsfläche zurück\, Raum für die Dynamik 
 wechselnder Wasserstände und Platz für neuen Auwald. Die neue Auenlandsc
 haft mit ihren vielfältigen Lebensräumen ist ein Paradies für Biber\, S
 törche\, seltene Wasservögel und gefährdete Pflanzen und bietet beste M
 öglichkeiten für besondere Naturbeobachtungen. Wir erkunden mit Ihnen da
 s Projektgebiet und klären auf\, welche naturschutzfachlichen Maßnahmen 
 hier umgesetzt wurden und was dies mit den Liebenthaler Pferden zu tun hat
 . Als Landschaftsgestalter übernehmen sie nämlich eine wichtige Rolle im
  Gebiet. Von Burg Lenzen aus starten wir per Rad in Richtung Deich und wei
 ter entlang des Projektgebietes bis zum \"Bösen Ort. Vom \"Auenblick\" bi
 eten sich gute Chancen auf vielfältige Naturbeobachtungen.\n\nKontakt:\n\
 nBUND-Besucherzentrum Burg Lenzen\nBurgstr. 3\n19309 Lenzen\nTelefon: +49 
 038792 1221\nEmail: info@burg-lenzen.de\nWebseite: https://www.burg-lenzen
 .de\n\nWeitere Informationen zur Veranstaltung: http://www.dahme-seenland.
 de/veranstaltung/prignitz/fluesse-und-ihre-auen-leben
CATEGORIES:Führung / Besichtigung,Radtouren
DTSTAMP:20260425T191206Z
END:VEVENT
END:VCALENDAR